BEGIN:VCALENDAR
VERSION:2.0
PRODID:-//InterFaith Council of Metropolitan Washington - ECPv5.16.4.1//NONSGML v1.0//EN
CALSCALE:GREGORIAN
METHOD:PUBLISH
X-WR-CALNAME:InterFaith Council of Metropolitan Washington
X-ORIGINAL-URL:https://ifcmw.org
X-WR-CALDESC:Events for InterFaith Council of Metropolitan Washington
BEGIN:VTIMEZONE
TZID:America/New_York
BEGIN:DAYLIGHT
TZOFFSETFROM:-0500
TZOFFSETTO:-0400
TZNAME:EDT
DTSTART:20240310T070000
END:DAYLIGHT
BEGIN:STANDARD
TZOFFSETFROM:-0400
TZOFFSETTO:-0500
TZNAME:EST
DTSTART:20241103T060000
END:STANDARD
END:VTIMEZONE
BEGIN:VEVENT
DTSTART;TZID=America/New_York:20240926T190000
DTEND;TZID=America/New_York:20240926T210000
DTSTAMP:20260424T144051
CREATED:20240923T151343Z
LAST-MODIFIED:20240923T151343Z
UID:5357-1727377200-1727384400@ifcmw.org
SUMMARY:Islam and the Blackamerican
DESCRIPTION:The SFS Prince Alwaleed bin Talal Center for Muslim-Christian Understanding and the Unity Productions Foundation are proud to present Islam and the Blackamerican: Two Decades-and Many Gray Hairs- Later. \nKeynote speaker\, Dr. Sherman Jackson\, and respondent Dr. Fatimah Fanusie\, will guide us in a discussion moderated by Alex Kronemer through the history of Muslims in America\, from their African kingdoms of origin until today. \nDoors open 7:15pm\, event starts 7:30pm sharp. \nPreregistration is required. Limited on-site registration may be available. \nThursday\, September 26 · 7:15 – 9pm EDT \nGeorgetown University\, ICC Auditorium \n3700 O Street Northwest Washington\, DC 20057 \nShow map\n \nhttps://www.eventbrite.com/e/islam-and-the-blackamerican-tickets-995462694717?aff=oddtdtcreator
URL:https://ifcmw.org/event/islam-and-the-blackamerican-2/
LOCATION:3700 O Street Northwest Washington\, DC 20057
CATEGORIES:Dialogue
END:VEVENT
END:VCALENDAR