BEGIN:VCALENDAR
VERSION:2.0
PRODID:-//InterFaith Council of Metropolitan Washington - ECPv5.16.4.1//NONSGML v1.0//EN
CALSCALE:GREGORIAN
METHOD:PUBLISH
X-WR-CALNAME:InterFaith Council of Metropolitan Washington
X-ORIGINAL-URL:https://ifcmw.org
X-WR-CALDESC:Events for InterFaith Council of Metropolitan Washington
BEGIN:VTIMEZONE
TZID:America/New_York
BEGIN:DAYLIGHT
TZOFFSETFROM:-0500
TZOFFSETTO:-0400
TZNAME:EDT
DTSTART:20240310T070000
END:DAYLIGHT
BEGIN:STANDARD
TZOFFSETFROM:-0400
TZOFFSETTO:-0500
TZNAME:EST
DTSTART:20241103T060000
END:STANDARD
END:VTIMEZONE
BEGIN:VEVENT
DTSTART;TZID=America/New_York:20240926T130000
DTEND;TZID=America/New_York:20240926T160000
DTSTAMP:20260424T144052
CREATED:20241026T050058Z
LAST-MODIFIED:20240918T172854Z
UID:5328-1727355600-1727366400@ifcmw.org
SUMMARY:Let's Celebrate Diwali!
DESCRIPTION:
URL:https://ifcmw.org/event/lets-celebrate-diwali/
LOCATION:7400 Arlington Road Bethesda MD 20814
CATEGORIES:Worship/Celebration
END:VEVENT
END:VCALENDAR